{"text_format":"1","workbook":"xlsx","n_sheets":3,"sheets":["入力シート","登録票","【記入例】入力シート"],"not_rendered":{"charts":0,"images":1,"macros":1,"external_links":0,"defined_names":3,"comments":0,"pivot_tables":0},"unopened":[],"bounds":{"document_bytes":16777216,"sheet_cells":100000,"rows_first":2000,"rows_last":500,"rows_between":2000,"halvings":0,"cell_chars":16384,"cell_head_chars":4096},"cells_cut":0,"cells_raw":0,"read":"whole","date_system":"1900"}

{"sheet":"入力シート","index":0,"n_rows":72,"n_cols":44,"rows_kept":72,"cut":false,"hidden":false,"merged":[[6,3,6,8],[32,2,32,4],[31,2,31,4],[45,2,45,4],[33,2,33,4],[39,5,39,21],[29,2,29,4],[26,5,26,21],[36,5,36,8],[35,9,35,21],[36,9,36,21],[37,5,37,21],[21,2,21,4],[25,2,25,4],[24,2,24,4],[19,2,19,4],[19,5,19,21],[20,5,20,8],[25,5,25,21],[16,2,16,4],[20,9,20,21],[23,2,23,4],[21,9,21,21],[22,2,22,4],[63,1,71,1],[53,2,53,4],[40,2,40,4],[41,2,41,4],[68,2,68,4],[56,1,62,1],[54,2,54,4],[55,2,55,4],[51,2,51,4],[52,2,52,4],[42,2,42,4],[50,2,50,4],[43,2,43,4],[50,0,55,1],[56,0,71,0],[44,2,44,4],[49,2,49,4],[40,0,49,1],[60,2,60,4],[62,2,62,4],[69,2,69,4],[71,2,71,4],[63,2,63,4],[70,2,70,4],[69,5,69,21],[56,5,56,8],[58,2,58,4],[59,2,59,4],[67,2,67,4],[61,2,61,4],[56,2,56,4],[63,5,63,8],[63,9,63,21],[67,5,67,21],[68,5,68,21],[65,5,65,21],[66,5,66,21],[70,5,70,21],[71,5,71,8],[71,9,71,21],[64,2,64,4],[65,2,65,4],[66,2,66,4],[64,9,64,21],[15,5,15,21],[17,9,17,21],[16,9,16,21],[18,9,18,21],[31,5,31,21],[17,5,17,7],[23,5,23,21],[47,5,47,14],[59,5,59,21],[56,9,56,21],[57,5,57,21],[58,5,58,21],[55,9,55,21],[54,5,54,8],[55,5,55,8],[44,5,44,8],[44,9,44,21],[15,0,15,4],[29,5,29,21],[30,5,30,21],[20,2,20,4],[16,5,16,8],[18,5,18,8],[21,5,21,8],[24,5,24,21],[22,5,22,21],[17,2,17,4],[18,2,18,4],[27,2,27,4],[16,0,39,1],[26,2,26,4],[32,5,32,21],[33,5,33,21],[34,5,34,21],[34,2,34,4],[30,2,30,4],[36,2,36,4],[28,2,28,4],[27,5,27,8],[27,9,27,21],[28,5,28,8],[61,5,61,21],[62,5,62,21],[64,5,64,8],[50,5,50,21],[48,5,48,14],[49,5,49,14],[53,5,53,21],[60,5,60,21],[46,15,49,21],[54,9,54,21],[28,9,28,21],[39,2,39,4],[57,2,57,4],[42,5,42,21],[43,5,43,21],[38,5,38,21],[41,5,41,21],[40,5,40,21],[51,5,51,21],[52,5,52,21],[37,2,37,4],[38,2,38,4],[35,5,35,8],[35,2,35,4],[45,9,45,21],[45,5,45,8],[47,2,47,4],[46,2,46,4],[48,2,48,4],[46,5,46,14]]}
[null,"入力上の注意事項（別添記入例もご参照ください）"]
[null,"① 支払通知書配信先メールアドレス・担当者名は必ずご入力ください。"]
[null,"  　本社所在地は登録基本情報と異なる場合のみご記入ください。"]
[null,"② お手数ですが、変更の場合でも必要事項をすべてご記入ください。"]
[null,"③ でんさいネット情報についてご不明の点がございましたら、下記のリンクをクリックしてください。"]
[null,null,"でんさいネットのHPが閲覧できます。"]
[null,null,"URL：","https://www.densai.net/"]
[null,null,"なお、ご不明の点がございましたら、本社管理部 TEL 044-455-7142 までご連絡ください。"]
[null,"④","登録票印刷ボタンをクリックし登録票本紙を印刷してください。"]
[null,"⑤","本紙に会社名・代表者名のゴム印（ゴム印がない場合は手書き）・代表者印をご捺印の上、"]
[null,null,"当社の担当者までPDFにてメール送信いただき、本書はご郵送ください。"]
[null,null,"取引先登録票をご提出の際は貴社の現在事項全部証明書(3か月以内、コピー可)もあわせてご提出願います。"]
[]
[]
[]
["項目",null,null,null,null,"入力・備考",null,null,null,null,null,null,null,null,null,null,null,null,null,null,null,null,null,"エラーチェック"]
["登録基本情報",null,"提出日",null,null,null,null,null,null,null,null,null,null,null,null,null,null,null,null,null,null,null,null,{"$f":"IF(F17=\"\",1,0)","v":1}]
[null,null,"登録区分",null,null,null,null,null,null,{"$f":"IF(AND(F19<>\"\",F22<>\"\"),\"\",IF(F18=\"変更\",\"※変更の場合は変更事由及び取引先ｺｰﾄﾞも記入ください\",\"\"))","v":""},null,null,null,null,null,null,null,null,null,null,null,null,null,{"$f":"IF(F18=\"\",1,0)","v":1}]
[null,null,"変更内容",null,null,null,null,null,null,{"$f":"IF(F19=\"その他\",\"※変更内容がその他の場合その他変更内容もご記入ください\",\"\")","v":""},null,null,null,null,null,null,null,null,null,null,null,null,null,{"$f":"IF(AND($F$18=\"変更\",F19=\"\"),1,0)","v":0},null,null,null,null,null,null,null,null,null,null,null,null,null,null,null,null,null,null,null,"新規"]
[null,null,"変更事由メモ",null,null,null,null,null,null,null,null,null,null,null,null,null,null,null,null,null,null,null,null,{"$f":"IF(AND(F19=\"その他\",F20=\"\"),1,0)","v":0},null,null,null,null,null,null,null,null,null,null,null,null,null,null,null,null,null,null,null,"変更"]
[null,null,"旧社名",null,null,null,null,null,null,{"$f":"IF(F21<>\"\",\"\",IF(F19=\"会社名\",\"※会社名変更の場合は、旧社名をご記入ください\",\"\"))","v":""}]
[null,null,"取引先コード",null,null,null,null,null,null,"※変更の場合はこちらもご記入ください",null,null,null,null,null,null,null,null,null,null,null,null,null,{"$f":"IF(AND($F$18=\"変更\",F22=\"\"),1,0)","v":0}]
[null,null,"適格請求書発行事業者登録番号"]
[null,null,"会社名",null,null,null,null,null,null,null,null,null,null,null,null,null,null,null,null,null,null,null,null,{"$f":"IF(F24=\"\",1,0)","v":1}]
[null,null,"会社名カナ",null,null,null,null,null,null,null,null,null,null,null,null,null,null,null,null,null,null,null,null,{"$f":"IF(F25=\"\",1,0)","v":1},null,null,null,null,null,null,null,null,null,null,null,null,null,null,null,null,null,null,null,"会社名"]
[null,null,"代表者役職・氏名",null,null,null,null,null,null,null,null,null,null,null,null,null,null,null,null,null,null,null,null,{"$f":"IF(F26=\"\",1,0)","v":1},null,null,null,null,null,null,null,null,null,null,null,null,null,null,null,null,null,null,null,"代表者名"]
[null,null,"代表者カナ",null,null,null,null,null,null,null,null,null,null,null,null,null,null,null,null,null,null,null,null,{"$f":"IF(F27=\"\",1,0)","v":1},null,null,null,null,null,null,null,null,null,null,null,null,null,null,null,null,null,null,null,"取引先住所"]
[null,null,"資本金",null,null,null,null,null,null,"※百万単位",null,null,null,null,null,null,null,null,null,null,null,null,null,{"$f":"IF(F28=\"\",1,0)","v":1},null,null,null,null,null,null,null,null,null,null,null,null,null,null,null,null,null,null,null,"支払案内送付先"]
[null,null,"従業員数",null,null,null,null,null,null,"※4月1日時点の人数（最新）"]
[null,null,"支店・部署名等",null,null,null,null,null,null,null,null,null,null,null,null,null,null,null,null,null,null,null,null,null,null,null,null,null,null,null,null,null,null,null,null,null,null,null,null,null,null,null,null,"本社所在地"]
[null,null,"支店・部署ガナ",null,null,null,null,null,null,null,null,null,null,null,null,null,null,null,null,null,null,null,null,null,null,null,null,null,null,null,null,null,null,null,null,null,null,null,null,null,null,null,null,"振込口座情報"]
[null,null,"郵便番号",null,null,null,null,null,null,null,null,null,null,null,null,null,null,null,null,null,null,null,null,{"$f":"IF(F32=\"\",1,0)","v":1},null,null,null,null,null,null,null,null,null,null,null,null,null,null,null,null,null,null,null,"でんさい情報"]
[null,null,"住所",null,null,null,null,null,null,null,null,null,null,null,null,null,null,null,null,null,null,null,null,{"$f":"IF(F33=\"\",1,0)","v":1},null,null,null,null,null,null,null,null,null,null,null,null,null,null,null,null,null,null,null,"その他"]
[null,null,"住所カナ",null,null,null,null,null,null,null,null,null,null,null,null,null,null,null,null,null,null,null,null,{"$f":"IF(F34=\"\",1,0)","v":1}]
[null,null,"ビル名等",null,null,null,null,null,null,null,null,null,null,null,null,null,null,null,null,null,null,null,null,null,null,null,null,null,null,null,null,null,null,null,null,null,null,null,null,null,null,null,null,"本社集金"]
[null,null,"ＴＥＬ",null,null,null,null,null,null,"※番号の区切りについては-（ハイフォン）をご使用ください",null,null,null,null,null,null,null,null,null,null,null,null,null,{"$f":"IF(F36=\"\",1,0)","v":1},null,null,null,null,null,null,null,null,null,null,null,null,null,null,null,null,null,null,null,"郵送"]
[null,null,"ＦＡＸ",null,null,null,null,null,null,"※番号の区切りについては-（ハイフォン）をご使用ください",null,null,null,null,null,null,null,null,null,null,null,null,null,{"$f":"IF(F37=\"\",1,0)","v":1}]
[null,null,"E-Mail",null,null,null,null,null,null,null,null,null,null,null,null,null,null,null,null,null,null,null,null,{"$f":"IF(F38=\"\",1,0)","v":1}]
[null,null,"担当者部署・氏名",null,null,null,null,null,null,null,null,null,null,null,null,null,null,null,null,null,null,null,null,{"$f":"IF(F39=\"\",1,0)","v":1}]
[null,null,"担当者カナ",null,null,null,null,null,null,null,null,null,null,null,null,null,null,null,null,null,null,null,null,{"$f":"IF(F40=\"\",1,0)","v":1}]
["支払通知書配信先",null,"郵便番号"]
[null,null,"住所"]
[null,null,"住所カナ"]
[null,null,"ビル名等"]
[null,null,"ＴＥＬ",null,null,null,null,null,null,"※番号の区切りについては-（ハイフォン）をご使用ください"]
[null,null,"ＦＡＸ",null,null,null,null,null,null,"※番号の区切りについては-（ハイフォン）をご使用ください"]
[null,null,"配信先１（担当者）",null,null,null,null,null,null,null,null,null,null,null,null,"※配信先は必ず２名様分\nご登録ください"]
[null,null,"配信先1（E-Mail）"]
[null,null,"配信先2（担当者）"]
[null,null,"配信先2（E-Mail）"]
["本社所在地",null,"郵便番号"]
[null,null,"住所"]
[null,null,"住所カナ"]
[null,null,"ビル名等"]
[null,null,"ＴＥＬ",null,null,null,null,null,null,"※番号の区切りについては-（ハイフォン）をご使用ください"]
[null,null,"ＦＡＸ",null,null,null,null,null,null,"※番号の区切りについては-（ハイフォン）をご使用ください"]
["支払情報","振込","金融機関コード",null,null,null,null,null,null,"※金融機関ごとの7ケタのコード、通常は通帳に記載があります"]
[null,null,"金融機関名"]
[null,null,"支店名"]
[null,null,"口座種別"]
[null,null,"口座番号"]
[null,null,"口座名義"]
[null,null,"名義カナ"]
[null,"でんさいネット","利用者番号",null,null,null,null,null,null,"※全銀電子債権ネットワークが発行する9ケタの番号"]
[null,null,"金融機関コード",null,null,null,null,null,null,"※金融機関ごとの7ケタのコード、通常は通帳に記載があります"]
[null,null,"金融機関名"]
[null,null,"支店名"]
[null,null,"口座種別"]
[null,null,"口座番号"]
[null,null,"口座名義"]
[null,null,"名義カナ"]
[null,null,"指定許可機能",null,null,null,null,null,null,"※記録請求を受ける相手方を限定できる機能"]

{"sheet":"登録票","index":1,"n_rows":58,"n_cols":31,"rows_kept":58,"cut":false,"hidden":false,"merged":[[29,2,29,4],[30,2,30,4],[37,25,37,27],[37,28,37,30],[42,25,42,30],[40,13,40,14],[40,15,40,16],[39,13,39,15],[37,2,37,4],[37,5,37,9],[37,10,37,12],[37,13,37,17],[37,18,37,19],[37,20,37,24],[42,3,42,5],[39,3,39,5],[32,2,32,4],[33,2,33,4],[35,2,35,4],[36,5,36,7],[36,8,36,30],[35,8,35,30],[31,18,31,30],[24,5,24,7],[24,8,24,30],[30,5,30,7],[27,18,27,20],[26,19,26,30],[25,19,25,30],[27,5,27,9],[27,13,27,17],[27,21,27,30],[32,13,32,15],[33,13,33,15],[32,5,32,12],[33,5,33,12],[32,16,32,30],[33,16,33,30],[31,5,31,9],[31,10,31,12],[31,13,31,17],[42,15,42,19],[42,20,42,24],[26,2,26,4],[24,2,24,4],[22,2,22,4],[22,5,22,18],[22,19,22,21],[25,2,25,4],[25,5,25,15],[25,16,25,18],[23,5,23,7],[26,5,26,15],[26,16,26,18],[23,8,23,30],[30,8,30,30],[29,5,29,7],[29,8,29,30],[22,22,22,30],[23,2,23,4],[27,2,27,4],[36,2,36,4],[31,2,31,4],[27,10,27,12],[35,5,35,7],[0,25,0,26],[1,2,1,30],[2,2,2,30],[5,14,5,21],[5,23,5,30],[21,2,21,4],[21,5,21,18],[21,19,21,21],[21,22,21,30],[13,2,13,9],[12,25,19,30],[12,10,19,24],[7,23,7,30],[18,2,19,9],[3,2,3,30],[14,2,17,9],[9,2,9,13],[9,14,9,30],[11,10,11,30],[12,2,12,9],[11,2,11,9],[47,2,49,4],[47,5,47,30],[43,3,43,5],[45,3,45,5],[43,13,43,15],[49,5,49,30],[48,5,48,30],[40,3,40,5],[42,2,45,2],[39,2,41,2],[43,16,43,30],[44,3,44,5],[44,13,44,14],[44,15,44,16],[44,17,44,30],[45,6,45,16],[45,17,45,19],[45,20,45,30],[39,16,39,30],[41,17,41,19],[41,20,41,30],[41,6,41,16],[40,17,40,30],[41,3,41,5],[53,21,56,27],[53,28,56,30],[51,2,51,30],[52,2,52,10],[52,28,52,30],[52,21,52,27],[53,2,53,4],[54,2,54,4],[55,2,55,4],[56,2,56,4],[53,5,53,7],[53,8,53,10],[56,5,56,10],[55,5,55,7],[54,5,54,7],[54,8,54,10],[55,8,55,10],[52,17,52,20],[53,17,56,20],[52,11,52,16],[53,11,56,16]]}
[]
[]
[null,null,"取　引　先　登　録　票"]
[null,null,"(でんさい対応版）"]
[]
[null,null,"株式会社Ｅ＆ＣＳ",null,null,null,null,null,null,null,"御中",null,null,null,"取引先コード",null,null,null,null,null,null,null,null,"提出日"]
[]
[null,null,null,null,null,null,null,null,null,null,null,null,null,null,{"$f":"IF(入力シート!F22=\"\",\"\",MIDB(入力シート!F22,1,1))","v":""},{"$f":"IF(入力シート!F22=\"\",\"\",MIDB(入力シート!F22,2,1))","v":""},{"$f":"IF(入力シート!F22=\"\",\"\",MIDB(入力シート!F22,3,1))","v":""},{"$f":"IF(入力シート!F22=\"\",\"\",MIDB(入力シート!F22,4,1))","v":""},{"$f":"IF(入力シート!F22=\"\",\"\",MIDB(入力シート!F22,5,1))","v":""},{"$f":"IF(入力シート!F22=\"\",\"\",MIDB(入力シート!F22,6,1))","v":""},{"$f":"IF(入力シート!F22=\"\",\"\",MIDB(入力シート!F22,7,1))","v":""},{"$f":"IF(入力シート!F22=\"\",\"\",MIDB(入力シート!F22,8,1))","v":""},null,{"$f":"DBCS(IF(入力シート!F17=\"\",\"　　年　　月　　日\",YEAR(入力シート!F17)&\"年\"&RIGHT(\" \"&MONTH(入力シート!F17),2)&\"月\"&RIGHT(\" \"&DAY(入力シート!F17),2)&\"日\"))","v":"　　年　　月　　日"}]
[]
[null,null,"適格請求書発行事業者登録番号",null,null,null,null,null,null,null,null,null,null,null,{"$f":"IF(入力シート!F23=\"\",\"\",入力シート!F23)","v":""}]
[]
[null,null,"登録区分",null,null,null,null,null,null,null,"会社名(事業所名)及び代表者"]
[null,null,{"$f":"IF(入力シート!F18=\"\",\"\",入力シート!F18)","v":""}]
[null,null,"変更事由"]
[null,null,{"$f":"IF(入力シート!F20=\"\",\"\",入力シート!F20)","v":""}]
[]
[]
[]
[null,null,{"$f":"IF(入力シート!F21=\"\",\"\",\"旧社名：\"&入力シート!F21)","v":""}]
[]
[null,null,"（お取引先情報）"]
[null,null,"フリガナ",null,null,{"$f":"IF(入力シート!F25=\"\",\"\",入力シート!F25)","v":""},null,null,null,null,null,null,null,null,null,null,null,null,null,"フリガナ",null,null,{"$f":"IF(入力シート!F31=\"\",\"\",入力シート!F31)","v":""}]
[null,null,"会社名",null,null,{"$f":"IF(入力シート!F24=\"\",\"\",入力シート!F24)","v":""},null,null,null,null,null,null,null,null,null,null,null,null,null,"支店名他",null,null,{"$f":"IF(入力シート!F30=\"\",\"\",入力シート!F30)","v":""}]
[null,null,"フリガナ",null,null,null,null,null,{"$f":"IF(入力シート!F34=\"\",\"\",入力シート!F34)","v":""}]
[null,null,"住所",null,null,{"$f":"IF(入力シート!F32=\"\",\"\",\"〒\"&入力シート!F32)","v":""},null,null,{"$f":"IF(入力シート!F33=\"\",\"\",入力シート!F33&IF(入力シート!F35=\"\",\"\",\" \"&入力シート!F35))","v":""}]
[null,null,"フリガナ",null,null,{"$f":"IF(入力シート!F27=\"\",\"\",入力シート!F27)","v":""},null,null,null,null,null,null,null,null,null,null,"フリガナ",null,null,{"$f":"IF(入力シート!F40=\"\",\"\",入力シート!F40)","v":""}]
[null,null,"代表者名",null,null,{"$f":"IF(入力シート!F26=\"\",\"\",入力シート!F26)","v":""},null,null,null,null,null,null,null,null,null,null,"担当者部署\n担当者氏名",null,null,{"$f":"IF(入力シート!F39=\"\",\"\",入力シート!F39)","v":""}]
[null,null,"ＴＥＬ",null,null,{"$f":"IF(入力シート!F36=\"\",\"\",入力シート!F36)","v":""},null,null,null,null,"ＦＡＸ",null,null,{"$f":"IF(入力シート!F37=\"\",\"\",入力シート!F37)","v":""},null,null,null,null,"E-Mail",null,null,{"$f":"IF(入力シート!F38=\"\",\"\",入力シート!F38)","v":""}]
[null,null,"（支払通知書配信先）"]
[null,null,"フリガナ",null,null,null,null,null,{"$f":"IF(入力シート!F43=\"\",\"\",入力シート!F43)","v":""}]
[null,null,"住所",null,null,{"$f":"IF(入力シート!F41=\"\",\"\",\"〒\"&入力シート!F41)","v":""},null,null,{"$f":"IF(入力シート!F42=\"\",\"\",入力シート!F42&IF(入力シート!F44=\"\",\"\",\" \"&入力シート!F44))","v":""}]
[null,null,"ＴＥＬ",null,null,{"$f":"IF(入力シート!F45=\"\",\"\",入力シート!F45)","v":""},null,null,null,null,"ＦＡＸ",null,null,{"$f":"IF(入力シート!F46=\"\",\"\",入力シート!F46)","v":""}]
[null,null,"配信先１",null,null,{"$f":"IF(入力シート!F47=\"\",\"\",入力シート!F47)","v":""},null,null,null,null,null,null,null,"E-Mail　1",null,null,{"$f":"IF(入力シート!F48=\"\",\"\",入力シート!F48)","v":""}]
[null,null,"配信先２",null,null,{"$f":"IF(入力シート!F49=\"\",\"\",入力シート!F49)","v":""},null,null,null,null,null,null,null,"E-Mail　2",null,null,{"$f":"IF(入力シート!F50=\"\",\"\",入力シート!F50)","v":""}]
[null,null,"（本社所在地）"]
[null,null,"フリガナ",null,null,null,null,null,{"$f":"IF(入力シート!F53=\"\",\"\",入力シート!F53)","v":""}]
[null,null,"住所",null,null,{"$f":"IF(入力シート!F51=\"\",\"\",\"〒\"&入力シート!F51)","v":""},null,null,{"$f":"IF(入力シート!F52=\"\",\"\",入力シート!F52&IF(入力シート!F54=\"\",\"\",\" \"&入力シート!F54))","v":""}]
[null,null,"ＴＥＬ",null,null,{"$f":"IF(入力シート!F55=\"\",\"\",入力シート!F55)","v":""},null,null,null,null,"ＦＡＸ",null,null,{"$f":"IF(入力シート!F56=\"\",\"\",入力シート!F56)","v":""},null,null,null,null,"資本金",null,{"$f":"IF(入力シート!F28=\"\",\"\",入力シート!F28)","v":""},null,null,null,null,"従業員数",null,null,{"$f":"IF(入力シート!F29=\"\",\"\",入力シート!F29)","v":""}]
[null,null,"（お支払情報）"]
[null,null,"振込","金融機関C",null,null,{"$f":"IF(入力シート!$F$57=\"\",\"\",MIDB(入力シート!$F$57,1,1))","v":""},{"$f":"IF(入力シート!$F$57=\"\",\"\",MIDB(入力シート!$F$57,2,1))","v":""},{"$f":"IF(入力シート!$F$57=\"\",\"\",MIDB(入力シート!$F$57,3,1))","v":""},{"$f":"IF(入力シート!$F$57=\"\",\"\",MIDB(入力シート!$F$57,4,1))","v":""},{"$f":"IF(入力シート!$F$57=\"\",\"\",MIDB(入力シート!$F$57,5,1))","v":""},{"$f":"IF(入力シート!$F$57=\"\",\"\",MIDB(入力シート!$F$57,6,1))","v":""},{"$f":"IF(入力シート!$F$57=\"\",\"\",MIDB(入力シート!$F$57,7,1))","v":""},"銀行名称",null,null,{"$f":"IF(入力シート!F58=\"\",\"\",入力シート!F58)&IF(入力シート!F59=\"\",\"\",\" \"&入力シート!F59)","v":""}]
[null,null,null,"口座番号",null,null,{"$f":"IF(入力シート!$F$61=\"\",\"\",MIDB(RIGHT(\"0000000\"&入力シート!$F$61,7),1,1))","v":""},{"$f":"IF(入力シート!$F$61=\"\",\"\",MIDB(RIGHT(\"0000000\"&入力シート!$F$61,7),2,1))","v":""},{"$f":"IF(入力シート!$F$61=\"\",\"\",MIDB(RIGHT(\"0000000\"&入力シート!$F$61,7),3,1))","v":""},{"$f":"IF(入力シート!$F$61=\"\",\"\",MIDB(RIGHT(\"0000000\"&入力シート!$F$61,7),4,1))","v":""},{"$f":"IF(入力シート!$F$61=\"\",\"\",MIDB(RIGHT(\"0000000\"&入力シート!$F$61,7),5,1))","v":""},{"$f":"IF(入力シート!$F$61=\"\",\"\",MIDB(RIGHT(\"0000000\"&入力シート!$F$61,7),6,1))","v":""},{"$f":"IF(入力シート!$F$61=\"\",\"\",MIDB(RIGHT(\"0000000\"&入力シート!$F$61,7),7,1))","v":""},"種別",null,{"$f":"IF(入力シート!F60=\"\",\"\",入力シート!F60)","v":""}]
[null,null,null,"口座名義",null,null,{"$f":"IF(入力シート!F62=\"\",\"\",入力シート!F62)","v":""},null,null,null,null,null,null,null,null,null,null,"口座名義ｶﾅ",null,null,{"$f":"IF(入力シート!F63=\"\",\"\",入力シート!F63)","v":""}]
[null,null,"でんさい","コード",null,null,{"$f":"IF(入力シート!$F$64=\"\",\"\",MIDB(ASC(入力シート!$F$64),1,1))","v":""},{"$f":"IF(ASC(入力シート!$F$64)=\"\",\"\",MIDB(ASC(入力シート!$F$64),2,1))","v":""},{"$f":"IF(ASC(入力シート!$F$64)=\"\",\"\",MIDB(ASC(入力シート!$F$64),3,1))","v":""},{"$f":"IF(ASC(入力シート!$F$64)=\"\",\"\",MIDB(ASC(入力シート!$F$64),4,1))","v":""},{"$f":"IF(ASC(入力シート!$F$64)=\"\",\"\",MIDB(ASC(入力シート!$F$64),5,1))","v":""},{"$f":"IF(ASC(入力シート!$F$64)=\"\",\"\",MIDB(ASC(入力シート!$F$64),6,1))","v":""},{"$f":"IF(ASC(入力シート!$F$64)=\"\",\"\",MIDB(ASC(入力シート!$F$64),7,1))","v":""},{"$f":"IF(ASC(入力シート!$F$64)=\"\",\"\",MIDB(ASC(入力シート!$F$64),8,1))","v":""},{"$f":"IF(ASC(入力シート!$F$64)=\"\",\"\",MIDB(ASC(入力シート!$F$64),9,1))","v":""},"指定許可機能",null,null,null,null,{"$f":"IF(入力シート!F72=\"\",\"\",入力シート!F72)","v":""}]
[null,null,null,"金融機関C",null,null,{"$f":"IF(入力シート!$F$65=\"\",\"\",MIDB(入力シート!$F$65,1,1))","v":""},{"$f":"IF(入力シート!$F$65=\"\",\"\",MIDB(入力シート!$F$65,2,1))","v":""},{"$f":"IF(入力シート!$F$65=\"\",\"\",MIDB(入力シート!$F$65,3,1))","v":""},{"$f":"IF(入力シート!$F$65=\"\",\"\",MIDB(入力シート!$F$65,4,1))","v":""},{"$f":"IF(入力シート!$F$65=\"\",\"\",MIDB(入力シート!$F$65,5,1))","v":""},{"$f":"IF(入力シート!$F$65=\"\",\"\",MIDB(入力シート!$F$65,6,1))","v":""},{"$f":"IF(入力シート!$F$65=\"\",\"\",MIDB(入力シート!$F$65,7,1))","v":""},"銀行名称",null,null,{"$f":"IF(入力シート!F66=\"\",\"\",入力シート!F66)&IF(入力シート!F67=\"\",\"\",\" \"&入力シート!F67)","v":""}]
[null,null,null,"口座番号",null,null,{"$f":"IF(入力シート!$F$69=\"\",\"\",MIDB(RIGHT(\"0000000\"&入力シート!$F$69,7),1,1))","v":""},{"$f":"IF(入力シート!$F$69=\"\",\"\",MIDB(RIGHT(\"0000000\"&入力シート!$F$69,7),2,1))","v":""},{"$f":"IF(入力シート!$F$69=\"\",\"\",MIDB(RIGHT(\"0000000\"&入力シート!$F$69,7),3,1))","v":""},{"$f":"IF(入力シート!$F$69=\"\",\"\",MIDB(RIGHT(\"0000000\"&入力シート!$F$69,7),4,1))","v":""},{"$f":"IF(入力シート!$F$69=\"\",\"\",MIDB(RIGHT(\"0000000\"&入力シート!$F$69,7),5,1))","v":""},{"$f":"IF(入力シート!$F$69=\"\",\"\",MIDB(RIGHT(\"0000000\"&入力シート!$F$69,7),6,1))","v":""},{"$f":"IF(入力シート!$F$69=\"\",\"\",MIDB(RIGHT(\"0000000\"&入力シート!$F$69,7),7,1))","v":""},"種別",null,{"$f":"IF(入力シート!F68=\"\",\"\",入力シート!F68)","v":""}]
[null,null,null,"口座名義",null,null,{"$f":"IF(入力シート!F70=\"\",\"\",入力シート!F70)","v":""},null,null,null,null,null,null,null,null,null,null,"口座名義ｶﾅ",null,null,{"$f":"IF(入力シート!F71=\"\",\"\",入力シート!F71)","v":""}]
[]
[null,null,"ご案内",null,null,"・登録記載内容に変更が生じた場合は、遅滞なく登録票を再提出願います。"]
[null,null,null,null,null,"・弊社指定請求書には、必ず「取引先コード」をご記入願います。"]
[null,null,null,null,null,"・取引先登録票をご提出の際は貴社の現在事項全部証明書(3か月以内、コピー可)もあわせてご提出願います。"]
[]
[null,null,"E & C S　社内処理欄"]
[null,null,"支払条件",null,null,null,null,null,null,null,null,"登録部署",null,null,null,null,null,"登録区分",null,null,null,"検印",null,null,null,null,null,null,"担当者"]
[null,null,"支払方法",null,null,"現金",null,null,"でんさい",null,null,null,null,null,null,null,null,"新規 ・ 変更"]
[null,null,"比率"]
[null,null,"支払サイト",null,null,null,null,null,"日"]
[null,null,"備考"]
[null,null,null,null,null,null,null,null,null,null,null,null,null,null,null,null,null,null,null,null,null,null,null,null,null,null,null,null,null,null,"更新日：2026年 3月 1日"]

{"sheet":"【記入例】入力シート","index":2,"n_rows":59,"n_cols":44,"rows_kept":59,"cut":false,"hidden":false,"merged":[[8,9,8,21],[23,9,23,21],[0,0,0,21],[5,2,5,4],[5,5,5,8],[5,9,5,21],[6,2,6,4],[6,5,6,21],[7,2,7,4],[7,5,7,8],[7,9,7,21],[2,0,2,4],[2,5,2,21],[3,0,26,1],[3,2,3,4],[3,5,3,8],[3,9,3,21],[4,2,4,4],[4,5,4,7],[4,9,4,21],[12,2,12,4],[12,5,12,21],[13,2,13,4],[8,2,8,4],[8,5,8,8],[9,2,9,4],[9,5,9,21],[20,2,20,4],[20,5,20,21],[21,2,21,4],[21,5,21,21],[16,2,16,4],[16,5,16,21],[17,2,17,4],[17,5,17,21],[18,2,18,4],[18,5,18,21],[13,5,13,21],[14,2,14,4],[10,2,10,4],[10,5,10,21],[11,2,11,4],[11,5,11,21],[19,2,19,4],[19,5,19,21],[14,5,14,8],[14,9,14,21],[15,2,15,4],[27,0,36,1],[27,2,27,4],[27,5,27,21],[28,2,28,4],[28,5,28,21],[29,2,29,4],[29,5,29,21],[30,2,30,4],[30,5,30,21],[31,2,31,4],[33,2,33,4],[34,2,34,4],[35,2,35,4],[33,5,33,14],[33,15,36,21],[34,5,34,14],[35,5,35,14],[36,5,36,14],[31,5,31,8],[31,9,31,21],[32,2,32,4],[43,0,58,0],[43,1,49,1],[43,2,43,4],[43,5,43,8],[43,9,43,21],[37,0,42,1],[37,2,37,4],[37,5,37,21],[38,2,38,4],[38,5,38,21],[39,2,39,4],[39,5,39,21],[40,2,40,4],[40,5,40,21],[41,2,41,4],[53,2,53,4],[47,2,47,4],[47,5,47,21],[48,2,48,4],[49,2,49,4],[49,5,49,21],[44,2,44,4],[44,5,44,21],[45,2,45,4],[45,5,45,21],[46,2,46,4],[46,5,46,21],[41,5,41,8],[41,9,41,21],[42,2,42,4],[42,5,42,8],[42,9,42,21],[15,5,15,8],[15,9,15,21],[32,5,32,8],[32,9,32,21],[36,2,36,4],[24,2,24,4],[24,5,24,21],[25,2,25,4],[25,5,25,21],[26,2,26,4],[26,5,26,21],[22,2,22,4],[22,5,22,8],[22,9,22,21],[23,2,23,4],[23,5,23,8],[48,5,48,21],[50,1,58,1],[50,2,50,4],[50,5,50,8],[50,9,50,21],[51,2,51,4],[51,5,51,8],[51,9,51,21],[52,2,52,4],[52,5,52,21],[53,5,53,21],[54,2,54,4],[54,5,54,21],[55,2,55,4],[55,5,55,21],[56,2,56,4],[56,5,56,21],[57,2,57,4],[57,5,57,21],[58,2,58,4],[58,5,58,8],[58,9,58,21]]}
["取引先登録票 記入例"]
[]
["項目",null,null,null,null,"入力・備考"]
["登録基本情報",null,"提出日",null,null,"2026-03-01"]
[null,null,"登録区分",null,null,"変更",null,null,null,{"$f":"IF(AND(F6<>\"\",F9<>\"\"),\"\",IF(F5=\"変更\",\"※変更の場合は変更事由及び取引先ｺｰﾄﾞも記入ください\",\"\"))","v":""}]
[null,null,"変更内容",null,null,"その他",null,null,null,{"$f":"IF(F6=\"その他\",\"※変更内容がその他の場合その他変更内容もご記入ください\",\"\")","v":"※変更内容がその他の場合その他変更内容もご記入ください"}]
[null,null,"変更事由メモ",null,null,"会社名・代表者名・住所"]
[null,null,"旧社名",null,null,"飛島物産株式会社",null,null,null,{"$f":"IF(F8<>\"\",\"\",IF(F6=\"会社名\",\"※会社名変更の場合は、旧社名をご記入ください\",\"\"))","v":""}]
[null,null,"取引先コード",null,null,"00000100",null,null,null,"※変更の場合はこちらもご記入ください"]
[null,null,"適格請求書発行事業者登録番号",null,null,"T1234567890123"]
[null,null,"会社名",null,null,"株式会社　Ｅ＆ＣＳ"]
[null,null,"会社名カナ",null,null,"ｶ)ｲｰｱﾝﾄﾞｼｰｴｽ"]
[null,null,"代表者役職・氏名",null,null,"東日本支店長 山田 太郎"]
[null,null,"代表者カナ",null,null,"ﾋｶﾞｼﾆﾎﾝｼﾃﾝﾁｮｳ ﾔﾏﾀﾞ ﾀﾛｳ"]
[null,null,"資本金",null,null,80,null,null,null,"※百万単位",null,null,null,null,null,null,null,null,null,null,null,null,null,{"$f":"IF(F15=\"\",1,0)","v":0},null,null,null,null,null,null,null,null,null,null,null,null,null,null,null,null,null,null,null,"支払案内送付先"]
[null,null,"従業員数",null,null,100,null,null,null,"※4月1日時点の人数（最新）"]
[null,null,"支店・部署名等",null,null,"東日本支店"]
[null,null,"支店・部署ガナ",null,null,"ﾋｶﾞｼﾆﾎﾝｼﾃﾝ"]
[null,null,"郵便番号",null,null,"213-0012"]
[null,null,"住所",null,null,"神奈川県川崎市高津区坂戸3-2-1"]
[null,null,"住所カナ",null,null,"ｶﾅｶﾞﾜｹﾝｶﾜｻｷｼﾀｶﾂｸｻｶﾄﾞ"]
[null,null,"ビル名等",null,null,"ＫＳＰ西棟506号室"]
[null,null,"ＴＥＬ",null,null,"090-2631-6964",null,null,null,"※番号の区切りについては-（ハイフォン）をご使用ください"]
[null,null,"ＦＡＸ",null,null,"044-829-6794",null,null,null,"※番号の区切りについては-（ハイフォン）をご使用ください"]
[null,null,"E-Mail",null,null,"ichirousatou@kk-ecs.co.jp"]
[null,null,"担当者部署・氏名",null,null,"東日本支店　佐藤 一郎"]
[null,null,"担当者カナ",null,null,"ﾋｶﾞｼﾆﾎﾝｼﾃﾝ ｻﾄｳ ｲﾁﾛｳ"]
["支払通知書配信先",null,"郵便番号",null,null,"102-8332"]
[null,null,"住所",null,null,"東京都千代田区三番町２"]
[null,null,"住所カナ",null,null,"ﾄｳｷｮｳﾄ ﾁﾖﾀﾞｸ ｻﾝﾊﾞﾝﾁｮｳ"]
[null,null,"ビル名等",null,null,"飛島建設 本社ビル２Ｆ"]
[null,null,"ＴＥＬ",null,null,"03-5275-3123",null,null,null,"※番号の区切りについては-（ハイフォン）をご使用ください"]
[null,null,"ＦＡＸ",null,null,"03-3288-6510",null,null,null,"※番号の区切りについては-（ハイフォン）をご使用ください"]
[null,null,"配信先１（担当者）",null,null,"東日本支店　佐藤 一郎",null,null,null,null,null,null,null,null,null,"※配信先は必ず２名様分\nご登録ください"]
[null,null,"配信先1（E-Mail）",null,null,"ichirousatou@kk-ecs.co.jp"]
[null,null,"配信先2（担当者）",null,null,"経理部　鈴木 二郎"]
[null,null,"配信先2（E-Mail）",null,null,"jirousuzuki@kk-ecs.co.jp"]
["本社所在地",null,"郵便番号",null,null,"102-8332"]
[null,null,"住所",null,null,"東京都千代田区三番町２"]
[null,null,"住所カナ",null,null,"ﾄｳｷｮｳﾄ ﾁﾖﾀﾞｸ ｻﾝﾊﾞﾝﾁｮｳ"]
[null,null,"ビル名等",null,null,"飛島建設 本社ビル２Ｆ"]
[null,null,"ＴＥＬ",null,null,"03-5275-3122",null,null,null,"※番号の区切りについては-（ハイフォン）をご使用ください"]
[null,null,"ＦＡＸ",null,null,"03-3288-6509",null,null,null,"※番号の区切りについては-（ハイフォン）をご使用ください"]
["支払情報","振込","金融機関コード",null,null,"1234567",null,null,null,"※金融機関ごとの7ケタのコード、通常は通帳に記載があります"]
[null,null,"金融機関名",null,null,"みずほ銀行"]
[null,null,"支店名",null,null,"大手町営業部"]
[null,null,"口座種別",null,null,"当座"]
[null,null,"口座番号",null,null,19602]
[null,null,"口座名義",null,null,"株式会社　Ｅ＆ＣＳ"]
[null,null,"名義カナ",null,null,"ｶ)ｲｰｱﾝﾄﾞｼｰｴｽ"]
[null,"でんさいネット","利用者番号",null,null,"000003WH0",null,null,null,"※全銀電子債権ネットワークが発行する9ケタの番号"]
[null,null,"金融機関コード",null,null,"2345678",null,null,null,"※金融機関ごとの7ケタのコード、通常は通帳に記載があります"]
[null,null,"金融機関名",null,null,"みずほ銀行"]
[null,null,"支店名",null,null,"大手町営業部"]
[null,null,"口座種別",null,null,"当座"]
[null,null,"口座番号",null,null,19614]
[null,null,"口座名義",null,null,"株式会社　Ｅ＆ＣＳ"]
[null,null,"名義カナ",null,null,"ｶ)ｲｰｱﾝﾄﾞｼｰｴｽ"]
[null,null,"指定許可機能",null,null,"利用している",null,null,null,"※記録請求を受ける相手方を限定できる機能"]